BEGIN:VCALENDAR
VERSION:2.0
PRODID:-//College of Engineering - University of Wisconsin-Madison - ECPv6.15.20//NONSGML v1.0//EN
CALSCALE:GREGORIAN
METHOD:PUBLISH
X-ORIGINAL-URL:https://engineering.wisc.edu
X-WR-CALDESC:Events for College of Engineering - University of Wisconsin-Madison
REFRESH-INTERVAL;VALUE=DURATION:PT1H
X-Robots-Tag:noindex
X-PUBLISHED-TTL:PT1H
BEGIN:VTIMEZONE
TZID:America/Chicago
BEGIN:DAYLIGHT
TZOFFSETFROM:-0600
TZOFFSETTO:-0500
TZNAME:CDT
DTSTART:20240310T080000
END:DAYLIGHT
BEGIN:STANDARD
TZOFFSETFROM:-0500
TZOFFSETTO:-0600
TZNAME:CST
DTSTART:20241103T070000
END:STANDARD
BEGIN:DAYLIGHT
TZOFFSETFROM:-0600
TZOFFSETTO:-0500
TZNAME:CDT
DTSTART:20250309T080000
END:DAYLIGHT
BEGIN:STANDARD
TZOFFSETFROM:-0500
TZOFFSETTO:-0600
TZNAME:CST
DTSTART:20251102T070000
END:STANDARD
BEGIN:DAYLIGHT
TZOFFSETFROM:-0600
TZOFFSETTO:-0500
TZNAME:CDT
DTSTART:20260308T080000
END:DAYLIGHT
BEGIN:STANDARD
TZOFFSETFROM:-0500
TZOFFSETTO:-0600
TZNAME:CST
DTSTART:20261101T070000
END:STANDARD
END:VTIMEZONE
BEGIN:VEVENT
DTSTART;TZID=America/Chicago:20250805T133000
DTEND;TZID=America/Chicago:20250805T140000
DTSTAMP:20260419T114059
CREATED:20250723T143940Z
LAST-MODIFIED:20250723T143943Z
UID:10001254-1754400600-1754402400@engineering.wisc.edu
SUMMARY:Wide and Ultrawide Bandgap Semiconductor Deposition Facility Grand Opening
DESCRIPTION:The Department of Electrical and Computer Engineering invites you to join us on Tuesday\, August 5th at 1:30 p.m. for the grand opening celebration of its Wide and Ultrawide Bandgap Semiconductor Deposition Facility. The event will be held on the second floor of the Engineering Centers Building\, and will include a short program\, ribbon-cutting ceremony\, and an opportunity to view the lab’s state-of-the-art AlN Agnitron MOCVD reactor.
URL:https://engineering.wisc.edu/event/wide-and-ultrawide-bandgap-semiconductor-deposition-facility-grand-opening/
LOCATION:Engineering Centers Building\, 1550 Engineering Drive\, Madison\, 53711
CATEGORIES:Electrical & Computer Engineering
ATTACH;FMTTYPE=image/jpeg:https://engineering.wisc.edu/wp-content/uploads/2025/07/AlN-and-AlGaN-materials-surpass-GaN-in-performance-and-are-advancing-6G-power-converters-and-deep-UV-optoelectronics.avif
END:VEVENT
BEGIN:VEVENT
DTSTART;TZID=America/Chicago:20250821T160000
DTEND;TZID=America/Chicago:20250821T180000
DTSTAMP:20260419T114059
CREATED:20250612T190555Z
LAST-MODIFIED:20250808T181050Z
UID:10001242-1755792000-1755799200@engineering.wisc.edu
SUMMARY:Alumni Ice Cream Social
DESCRIPTION:Hey\, Badger Engineering Alum!  We invite you to join us for an evening of reminiscing\, networking\, and delicious Babcock ice cream on Thursday\, August 21st from 4-6pm at the Memorial Union Terrace.  Alumni from across the college will have the chance to connect at one of the most beloved sites on campus. \n\n\n\nLeadership from across the college will be on hand to chat with alumni and learn more about what paths they took after leaving campus\, as well as share the latest department and college news.  \n\n\n\nEngineering alumni from all departments are welcome and encouraged to join in on the fun.  \n\n\n\n\nRegister now
URL:https://engineering.wisc.edu/event/alumni-ice-cream-social-2/
LOCATION:Memorial Union Terrace\, 800 Langdon St\, Madison\, Wisconsin\, 53706
CATEGORIES:Alumni events,Biomedical Engineering,Electrical & Computer Engineering,Industrial & Systems Engineering,Mechanical Engineering,Nuclear Engineering & Engineering Physics
ATTACH;FMTTYPE=image/jpeg:https://engineering.wisc.edu/wp-content/uploads/2023/06/2023-Alumni-Ice-Cream-Social-Website-jpg-webp.webp
END:VEVENT
BEGIN:VEVENT
DTSTART;TZID=America/Chicago:20250829T090000
DTEND;TZID=America/Chicago:20250829T130000
DTSTAMP:20260419T114059
CREATED:20250708T190217Z
LAST-MODIFIED:20250708T190220Z
UID:10001246-1756458000-1756472400@engineering.wisc.edu
SUMMARY:ECE New Graduate Student Orientation
DESCRIPTION:Graduate Student Orientation offers newly enrolled ECE graduate students the support and resources needed to help transition to life as a UW-ECE graduate student. The event will provide information on payroll\, benefits\, student services and more. Lunch will follow the morning session. \n\n\n\nAll first-year graduate students are required to attend\, except those enrolled in the MS Power online program. \n\n\n\nFirst-year graduate students\, check your wisc.edu email for invitation and link to RSVP.
URL:https://engineering.wisc.edu/event/ece-new-graduate-student-orientation-2/
LOCATION:Wisconsin
CATEGORIES:Electrical & Computer Engineering,Information Session
ATTACH;FMTTYPE=image/jpeg:https://engineering.wisc.edu/wp-content/uploads/2025/07/Grad-Student-Orientation-Invitation-website-and-monitor.avif
END:VEVENT
END:VCALENDAR