BEGIN:VCALENDAR
VERSION:2.0
PRODID:-//College of Engineering - University of Wisconsin-Madison - ECPv6.15.20//NONSGML v1.0//EN
CALSCALE:GREGORIAN
METHOD:PUBLISH
X-WR-CALNAME:College of Engineering - University of Wisconsin-Madison
X-ORIGINAL-URL:https://engineering.wisc.edu
X-WR-CALDESC:Events for College of Engineering - University of Wisconsin-Madison
REFRESH-INTERVAL;VALUE=DURATION:PT1H
X-Robots-Tag:noindex
X-PUBLISHED-TTL:PT1H
BEGIN:VTIMEZONE
TZID:America/Chicago
BEGIN:DAYLIGHT
TZOFFSETFROM:-0600
TZOFFSETTO:-0500
TZNAME:CDT
DTSTART:20240310T080000
END:DAYLIGHT
BEGIN:STANDARD
TZOFFSETFROM:-0500
TZOFFSETTO:-0600
TZNAME:CST
DTSTART:20241103T070000
END:STANDARD
BEGIN:DAYLIGHT
TZOFFSETFROM:-0600
TZOFFSETTO:-0500
TZNAME:CDT
DTSTART:20250309T080000
END:DAYLIGHT
BEGIN:STANDARD
TZOFFSETFROM:-0500
TZOFFSETTO:-0600
TZNAME:CST
DTSTART:20251102T070000
END:STANDARD
BEGIN:DAYLIGHT
TZOFFSETFROM:-0600
TZOFFSETTO:-0500
TZNAME:CDT
DTSTART:20260308T080000
END:DAYLIGHT
BEGIN:STANDARD
TZOFFSETFROM:-0500
TZOFFSETTO:-0600
TZNAME:CST
DTSTART:20261101T070000
END:STANDARD
END:VTIMEZONE
BEGIN:VEVENT
DTSTART;TZID=America/Chicago:20251008T120000
DTEND;TZID=America/Chicago:20251008T125000
DTSTAMP:20260419T084007
CREATED:20250929T160832Z
LAST-MODIFIED:20250929T172115Z
UID:10001338-1759924800-1759927800@engineering.wisc.edu
SUMMARY:Ask an expert: The Intersection of Data\, AI and Healthcare
DESCRIPTION:All students\, staff and faculty are invited as the Departments of Industrial & Systems Engineering (ISyE)\, and Electrical & Computer Engineering (ECE) welcome three alumni experts in the healthcare tech industry. This virtual panel\, with technical and leadership experience from Tempus Labs\, NVIDIA\, GE Healthcare\, UW Hospital\, HTD Health\, GH Labs\, Microsoft\, and more\, will be moderated by ISyE Professor Laura Albert. Join us to learn more about the field of data engineering and AI within the healthcare industry and what the future may hold in this dynamic area. Plus\, hear from these Badgers about why they chose their career paths and what they have learned along the way. \n\n\n\nJimmy John’s sandwiches will be provided! No registration required. \n\n\n\nMeet our panelists: \n\n\n\nErkin Otles (BSIE’11\, MSIE’16)Resident Physician\, UW Hospital;AI Practice Lead\, HTD Health\n\n\n\nRanjani Ramamurthy (MSEE’96)Vice President\, GH Labs;Advisor & Member\, Indian Cancer Genome Atlas;Advisor\, Dandelion Health and Fred Hutchinson Cancer Research Center\n\n\n\nChris Scotto DiVetta (BSCMPE’06)SVP & General Manager of AI Applications\, Tempus Labs\, Inc.
URL:https://engineering.wisc.edu/event/ask-an-expert-the-intersection-of-data-ai-and-healthcare/
LOCATION:1610 Engineering Hall\, 1415 Engineering Drive\, Madison\, 53706
CATEGORIES:Alumni events,Electrical & Computer Engineering,Industrial & Systems Engineering
ATTACH;FMTTYPE=image/jpeg:https://engineering.wisc.edu/wp-content/uploads/2025/09/Alumni-Panels-Ask-an-Expert-2.avif
END:VEVENT
BEGIN:VEVENT
DTSTART;TZID=America/Chicago:20251011T000000
DTEND;TZID=America/Chicago:20251011T235959
DTSTAMP:20260419T084007
CREATED:20250829T163033Z
LAST-MODIFIED:20250829T163035Z
UID:10001305-1760140800-1760227199@engineering.wisc.edu
SUMMARY:College of Engineering Alumni Tailgate
DESCRIPTION:U-Rah-Rah\, It’s Back—and This Year\, We’re Welcoming Dean Ranjan Home! \n\n\n\nThe College of Engineering Alumni Tailgate returns for UW Homecoming 2025—now with an extra reason to celebrate. \n\n\n\nJoin us in welcoming Dean Devesh Ranjan (MS ’05\, PhD ’07) back to Madison for his first Homecoming as Dean of the College of Engineering. It’s a can’t-miss opportunity to reconnect with fellow alumni\, meet college leadership\, and celebrate Badger pride—just steps from Camp Randall. \n\n\n\nTailgate Details📍 Mechanical Engineering Atrium (1513 University Avenue\, Madison WI)🕑 Begins 2.5 hours before kickoff (Game Time TBD)🏈 Badgers vs. Hawkeyes  \n\n\n\n \n\n\n\nTickets:🎟️ $25 per person (includes food + 2 drinks)👶 Children under 5 are free! \n\n\n\n \n\n\n\n\n\n\n\n    \n        \n                        Your tailgate ticket includes: two drink tickets for the bar\, buffet of tailgate fare and assortment of non-alcoholic refreshments.                         Want to attend the football game? Couple your tailgate admission with your purchase of upper-deck football tickets\, too. Game time to be announced soon. Tailgate will begin two and half hours before the Badgers take on Iowa. \n                                Register Today!                    \n\n                \n\n\nWith the farmers’ market\, State Street\, the Terrace and so much more to see and do\, Madison’s the perfect place to be for a festive fall football weekend. Head over to UW-Madison’s Homecoming “hub” and plan your getaway right away!
URL:https://engineering.wisc.edu/event/college-of-engineering-alumni-tailgate-2/
LOCATION:Mechanical Engineering Building\, 1513 University Avenue\, Madison\, WI\, 53706-1539\, United States
CATEGORIES:Alumni events,Biomedical Engineering,Chemical & Biological Engineering,Civil & Environmental Engineering,Departments,Electrical & Computer Engineering,Industrial & Systems Engineering,Materials Science & Engineering,Mechanical Engineering,Nuclear Engineering & Engineering Physics
ATTACH;FMTTYPE=image/jpeg:https://engineering.wisc.edu/wp-content/uploads/2022/06/fball_Mich_AD21_0053-scaled.webp
END:VEVENT
BEGIN:VEVENT
DTSTART;TZID=America/Chicago:20251014T122000
DTEND;TZID=America/Chicago:20251014T125000
DTSTAMP:20260419T084007
CREATED:20250909T193257Z
LAST-MODIFIED:20250909T193300Z
UID:10001320-1760444400-1760446200@engineering.wisc.edu
SUMMARY:ECE Discovery Panel: ECE Capstone Design Courses
DESCRIPTION:Engineering undergraduates! Join us in 2317 Engineering Hall where you can hear all about ECE Capstone Design Courses from the faculty who teach them! All undergraduate students are welcome as Teaching Faculty Joe Krachey (ECE 453)\, Associate Professor Bhuvana Krishnaswamy (ECE 454)\, Assistant Teaching Professor Nathan Strachen (ECE 455) and Assistant Professor George Tzimpragos (ECE 554) talk all about these very special hands-on courses. \n\n\n\nJimmy John’s sandwiches will be served after the panel. \n\n\n\n    \n        \n            \n                \n                    ECE Capstone Design Courses                \n                                    \n                        \n                            \n                        \n                    \n                            \n        \n        \n            \n                \n                    \n                        Close Video
URL:https://engineering.wisc.edu/event/ece-discovery-panel-ece-capstone-design-courses/
LOCATION:2317 Engineering Hall\, 1415 Engineering Drive\, Madison\, 53711
CATEGORIES:Electrical & Computer Engineering,Information Session
ATTACH;FMTTYPE=image/jpeg:https://engineering.wisc.edu/wp-content/uploads/2025/08/ECE-Discovery-Panel-Series-9.avif
END:VEVENT
BEGIN:VEVENT
DTSTART;TZID=America/Chicago:20251016T120000
DTEND;TZID=America/Chicago:20251016T130000
DTSTAMP:20260419T084007
CREATED:20250918T154946Z
LAST-MODIFIED:20250918T154949Z
UID:10001333-1760616000-1760619600@engineering.wisc.edu
SUMMARY:2025 ECE Undergraduate Scholarship Reception
DESCRIPTION:ECE undergraduate scholarship recipients are cordially invited to attend the 2025 ECE Undergraduate Scholarship Reception for ECE and College of Engineering scholarship recipients. Please join us on Thursday\, October 16th for a short program\, followed by refreshments and photo opportunities\, that will celebrate our accomplished students and their generous benefactors. The event will be held in Varsity Hall at Union South\, from noon until 1:00pm. \n\n\n\nScholarship recipients\, check your email for your invitation and instructions to RSVP by October 1.
URL:https://engineering.wisc.edu/event/2025-ece-undergraduate-scholarship-reception/
LOCATION:Union South – Varsity Hall\, 1308 W Dayton St\, Madison\, Wisconsin\, 53715
CATEGORIES:Electrical & Computer Engineering,Social Event
ATTACH;FMTTYPE=image/jpeg:https://engineering.wisc.edu/wp-content/uploads/2025/09/Scholarship-Website.avif
END:VEVENT
BEGIN:VEVENT
DTSTART;TZID=America/Chicago:20251028T122000
DTEND;TZID=America/Chicago:20251028T125000
DTSTAMP:20260419T084007
CREATED:20250910T183449Z
LAST-MODIFIED:20250910T184628Z
UID:10001325-1761654000-1761655800@engineering.wisc.edu
SUMMARY:ECE Discovery Panel: ECE Named BS Degree Options
DESCRIPTION:Join us as ECE Teaching Faculty Srdjan Milicic\, Assistant Teaching Professor Setareh Behroozi\, and Assistant Teaching Professor Eduardo R. Arvelo talk about the four named BS degree options within ECE.  Degree options prepare students for careers in electrical or computer engineering with an emphasis on a specific area of the field.  Learn more about how to declare this option\, what courses to choose within your 120-credit curriculum\, and what career opportunities open up with this degree distinction.Electrical Engineering: Semiconductor Engineering\, BS  \n\n\n\nComputer Engineering: Semiconductor Engineering\, BS  \n\n\n\nElectrical Engineering: Machine Learning and Data Science\, BS  \n\n\n\nComputer Engineering: Machine Learning and Data Science\, BS  \n\n\n\nJimmy John’s sandwiches will be provided! \n\n\n\nSrdjan Milicic\n\n\n\nSetareh Behroozi\n\n\n\nEduardo R. Arvelo
URL:https://engineering.wisc.edu/event/ece-discovery-panel-ece-named-bs-degree-options/
LOCATION:2317 Engineering Hall\, 1415 Engineering Drive\, Madison\, 53711
CATEGORIES:Electrical & Computer Engineering,Information Session
ATTACH;FMTTYPE=image/jpeg:https://engineering.wisc.edu/wp-content/uploads/2025/08/ECE-Discovery-Panel-Series-9.avif
END:VEVENT
END:VCALENDAR