BEGIN:VCALENDAR
VERSION:2.0
PRODID:-//College of Engineering - University of Wisconsin-Madison - ECPv6.15.20//NONSGML v1.0//EN
CALSCALE:GREGORIAN
METHOD:PUBLISH
X-WR-CALNAME:College of Engineering - University of Wisconsin-Madison
X-ORIGINAL-URL:https://engineering.wisc.edu
X-WR-CALDESC:Events for College of Engineering - University of Wisconsin-Madison
REFRESH-INTERVAL;VALUE=DURATION:PT1H
X-Robots-Tag:noindex
X-PUBLISHED-TTL:PT1H
BEGIN:VTIMEZONE
TZID:America/Chicago
BEGIN:DAYLIGHT
TZOFFSETFROM:-0600
TZOFFSETTO:-0500
TZNAME:CDT
DTSTART:20240310T080000
END:DAYLIGHT
BEGIN:STANDARD
TZOFFSETFROM:-0500
TZOFFSETTO:-0600
TZNAME:CST
DTSTART:20241103T070000
END:STANDARD
BEGIN:DAYLIGHT
TZOFFSETFROM:-0600
TZOFFSETTO:-0500
TZNAME:CDT
DTSTART:20250309T080000
END:DAYLIGHT
BEGIN:STANDARD
TZOFFSETFROM:-0500
TZOFFSETTO:-0600
TZNAME:CST
DTSTART:20251102T070000
END:STANDARD
BEGIN:DAYLIGHT
TZOFFSETFROM:-0600
TZOFFSETTO:-0500
TZNAME:CDT
DTSTART:20260308T080000
END:DAYLIGHT
BEGIN:STANDARD
TZOFFSETFROM:-0500
TZOFFSETTO:-0600
TZNAME:CST
DTSTART:20261101T070000
END:STANDARD
END:VTIMEZONE
BEGIN:VEVENT
DTSTART;TZID=America/Chicago:20250916T122000
DTEND;TZID=America/Chicago:20250916T125000
DTSTAMP:20260419T131341
CREATED:20250819T175212Z
LAST-MODIFIED:20250909T190855Z
UID:10001270-1758025200-1758027000@engineering.wisc.edu
SUMMARY:ECE Discovery Panel: Computer Systems & Architecture
DESCRIPTION:Engineering undergraduates! Join us in 2317 Engineering Hall as faculty members explore the technical area of Computer Systems and Architecture! All undergraduate students are welcome as Teaching Faculty Eric Hoffman\, Associate Professor Joshua San Miguel\, and Professor Azadeh Davoodi talk about application ideas\, advanced course electives in this area\, and future job opportunities. It’s a great place to ask your questions about classes and career paths in this growing ECE field. \n\n\n\nJimmy John’s sandwiches will be served after the panel. \n\n\n\nEric Hoffman\n\n\n\nJoshua San Miguel\n\n\n\nAzadeh Davoodi
URL:https://engineering.wisc.edu/event/ece-discovery-panel-computer-systems-architecture-2/
LOCATION:2317 Engineering Hall\, 1415 Engineering Drive\, Madison\, 53711
CATEGORIES:Electrical & Computer Engineering,Information Session
ATTACH;FMTTYPE=image/jpeg:https://engineering.wisc.edu/wp-content/uploads/2025/08/ECE-Discovery-Panel-Series-9.avif
END:VEVENT
BEGIN:VEVENT
DTSTART;TZID=America/Chicago:20250916T170000
DTEND;TZID=America/Chicago:20250916T180000
DTSTAMP:20260419T131341
CREATED:20250904T212308Z
LAST-MODIFIED:20250904T212421Z
UID:10001312-1758042000-1758045600@engineering.wisc.edu
SUMMARY:Rivos Tech Talk sponsored by IEEE-HKN
DESCRIPTION:Join us for an exciting tech talk with Rivos\, a leader in RISC-V technology\, as visiting members share insights into open instruction set architectures and their real-world applications. This event is tailored for students with a background in computer architecture who are eager to learn more about cutting-edge developments in the field.Don’t miss the opportunity to engage directly with industry experts and ask questions!  \n\n\n\nPizza will be available for all attendees. \n\n\n\n4610 Engineering Hall \n\n\n\n\nSign Up Today!
URL:https://engineering.wisc.edu/event/rivos-tech-talk-sponsored-by-ieee-hkn/
LOCATION:4610 Engineering Hall\, 1415 Engineering Drive\, Madison\, 53711
CATEGORIES:Electrical & Computer Engineering,Student Org Event
ATTACH;FMTTYPE=image/jpeg:https://engineering.wisc.edu/wp-content/uploads/2023/09/Eta-Kappa-Nu-jpg-webp.webp
END:VEVENT
END:VCALENDAR