BEGIN:VCALENDAR
VERSION:2.0
PRODID:-//College of Engineering - University of Wisconsin-Madison - ECPv6.15.20//NONSGML v1.0//EN
CALSCALE:GREGORIAN
METHOD:PUBLISH
X-ORIGINAL-URL:https://engineering.wisc.edu
X-WR-CALDESC:Events for College of Engineering - University of Wisconsin-Madison
REFRESH-INTERVAL;VALUE=DURATION:PT1H
X-Robots-Tag:noindex
X-PUBLISHED-TTL:PT1H
BEGIN:VTIMEZONE
TZID:America/Chicago
BEGIN:DAYLIGHT
TZOFFSETFROM:-0600
TZOFFSETTO:-0500
TZNAME:CDT
DTSTART:20250309T080000
END:DAYLIGHT
BEGIN:STANDARD
TZOFFSETFROM:-0500
TZOFFSETTO:-0600
TZNAME:CST
DTSTART:20251102T070000
END:STANDARD
BEGIN:DAYLIGHT
TZOFFSETFROM:-0600
TZOFFSETTO:-0500
TZNAME:CDT
DTSTART:20260308T080000
END:DAYLIGHT
BEGIN:STANDARD
TZOFFSETFROM:-0500
TZOFFSETTO:-0600
TZNAME:CST
DTSTART:20261101T070000
END:STANDARD
BEGIN:DAYLIGHT
TZOFFSETFROM:-0600
TZOFFSETTO:-0500
TZNAME:CDT
DTSTART:20270314T080000
END:DAYLIGHT
BEGIN:STANDARD
TZOFFSETFROM:-0500
TZOFFSETTO:-0600
TZNAME:CST
DTSTART:20271107T070000
END:STANDARD
END:VTIMEZONE
BEGIN:VEVENT
DTSTART;TZID=America/Chicago:20260206T150000
DTEND;TZID=America/Chicago:20260206T160000
DTSTAMP:20260419T094400
CREATED:20260123T212910Z
LAST-MODIFIED:20260129T143616Z
UID:10001443-1770390000-1770393600@engineering.wisc.edu
SUMMARY:ECE Distinguished Speaker Seminar Series: Professor Shiwen Mao\, Auburn University
DESCRIPTION:2305 Engineering Hall \n\n\n\nDiffusion-enabled 3D human pose tracking\, data augmentation\, completion\, and acceleration\n\n\n\n\n\n\n\nAbstract:In recent years\, 3D human activity recognition and tracking has become an important topic in human-computer interaction. To preserve the privacy of users\, there is considerable interest in techniques without using a video camera. In this talk\, Mao first presents RFID-Pose\, a vision-assisted 3D human pose estimation system based on deep learning (DL). The performance of DL models depends on the availability of sufficient high-quality radio frequency (RF) data\, which is more difficult and expensive to collect than other types of data. To overcome this obstacle\, in the second part of this talk\, he presents generative AI approaches to generate labeled synthetic RF data for multiple wireless sensing platforms\, such as WiFi\, RFID\, and mmWave radar\, including a conditional Recurrent Generative Adversarial Network (R-GAN) approach and diffusion/latent diffusion based approaches. Next\, he proposes a novel framework that leverages latent diffusion transformers to synthesize high quality RF data\, as well as a latent diffusion transformer with cross-attention conditioning to accurately infer missing joints in skeletal poses\, completing full 25-joint configurations from partial (i.e.\, 12-joint) inputs utilizing received RF sensory data. Finally\, he presents recent work TF-Diff\, a novel training-free diffusion framework for cross-domain radio frequency (RF)-based human activity recognition (HAR) system\, which enables effective adaptation with minimal target-domain data. \n\n\n\nProfessor Shiwen Mao\n\n\n\nBio:Shiwen Mao is a Professor and Earle C. Williams Eminent Scholar and Director of the Wireless Engineering Research and Education Center at Auburn University. Dr. Mao’s research interest includes wireless networks\, multimedia communications\, RF sensing and IoT\, smart health\, and smart grid. He is the editor-in-chief of IEEE Transactions on Cognitive Communications and Networking\, a member-at-large on the Board of Governors of IEEE Communications Society\, and Vice President of Technical Activities of IEEE Council on Radio Frequency Identification (CRFID). He is a co-recipient of several technical and service awards from the IEEE. He is a Fellow of the IEEE.
URL:https://engineering.wisc.edu/event/ece-distinguished-speaker-seminar-series-professor-shiwen-mao-auburn-university/
LOCATION:2305 Engineering Hall\, 1415 Engineering Drive\, Madison\, WI\, 53706\, United States
CATEGORIES:Electrical & Computer Engineering,Seminar
ATTACH;FMTTYPE=image/jpeg:https://engineering.wisc.edu/wp-content/uploads/2025/09/Distinguished-Speaker-Seminar-Series-3.avif
END:VEVENT
END:VCALENDAR