BEGIN:VCALENDAR
VERSION:2.0
PRODID:-//College of Engineering - University of Wisconsin-Madison - ECPv6.15.20//NONSGML v1.0//EN
CALSCALE:GREGORIAN
METHOD:PUBLISH
X-WR-CALNAME:College of Engineering - University of Wisconsin-Madison
X-ORIGINAL-URL:https://engineering.wisc.edu
X-WR-CALDESC:Events for College of Engineering - University of Wisconsin-Madison
REFRESH-INTERVAL;VALUE=DURATION:PT1H
X-Robots-Tag:noindex
X-PUBLISHED-TTL:PT1H
BEGIN:VTIMEZONE
TZID:America/Chicago
BEGIN:DAYLIGHT
TZOFFSETFROM:-0600
TZOFFSETTO:-0500
TZNAME:CDT
DTSTART:20240310T080000
END:DAYLIGHT
BEGIN:STANDARD
TZOFFSETFROM:-0500
TZOFFSETTO:-0600
TZNAME:CST
DTSTART:20241103T070000
END:STANDARD
BEGIN:DAYLIGHT
TZOFFSETFROM:-0600
TZOFFSETTO:-0500
TZNAME:CDT
DTSTART:20250309T080000
END:DAYLIGHT
BEGIN:STANDARD
TZOFFSETFROM:-0500
TZOFFSETTO:-0600
TZNAME:CST
DTSTART:20251102T070000
END:STANDARD
BEGIN:DAYLIGHT
TZOFFSETFROM:-0600
TZOFFSETTO:-0500
TZNAME:CDT
DTSTART:20260308T080000
END:DAYLIGHT
BEGIN:STANDARD
TZOFFSETFROM:-0500
TZOFFSETTO:-0600
TZNAME:CST
DTSTART:20261101T070000
END:STANDARD
END:VTIMEZONE
BEGIN:VEVENT
DTSTART;TZID=America/Chicago:20250429T130000
DTEND;TZID=America/Chicago:20250429T150000
DTSTAMP:20260422T180240
CREATED:20250428T182111Z
LAST-MODIFIED:20250428T182114Z
UID:10001232-1745931600-1745938800@engineering.wisc.edu
SUMMARY:NEEP Poster Session: NE 526 Plasma Laboratory
DESCRIPTION:The NE526 Plasma Laboratory class is hosting a poster session this Tuesday (04/29/25) from 1:00 PM to 3:00 PM. Depending on the weather\, posters will be displayed either in the ERB lobby or outside in front of ERB. Students will showcase new experimental capabilities\, share exciting results on plasma waves\, and highlight recent diagnostic advancements. Pizza and drinks will be provided in appreciation of the students’ hard work. We hope you’ll stop by\, enjoy some refreshments\, and offer feedback to the students on their projects!
URL:https://engineering.wisc.edu/event/neep-poster-session-ne-526-plasma-laboratory/
LOCATION:Wisconsin
CATEGORIES:Nuclear Engineering & Engineering Physics
ATTACH;FMTTYPE=image/webp:https://engineering.wisc.edu/wp-content/uploads/2025/04/Plasma.avif
END:VEVENT
BEGIN:VEVENT
DTSTART;TZID=America/Chicago:20250428T120000
DTEND;TZID=America/Chicago:20250428T130000
DTSTAMP:20260422T180240
CREATED:20250204T172651Z
LAST-MODIFIED:20250407T164436Z
UID:10001149-1745841600-1745845200@engineering.wisc.edu
SUMMARY:BME Seminar Series: Jessica Wagenseil\, PhD
DESCRIPTION:Biomechanics of Thoracic Aortic Aneurysms\n\n\n\n\n\n\n\nJessica Wagenseil\, DScProfessor\, Mechanical Engineering and Materials ScienceVice Dean for Faculty AdvancementMcKelvey School of EngineeringWashington University \n\n\n\nAbstract:Thoracic aortic aneurysms are a dilation of the aortic wall that can be asymptomatic for many years until they dissect or rupture. Dissection or rupture is associated with a high mortality rate. Surgical replacement is the current treatment standard and is performed when the aortic aneurysm reaches a specified size or growth rate. However\, many aortic aneurysms fail before reaching these thresholds and many pass the thresholds without failing. We are interested in predicting how the aneurysm will grow\, remodel\, and fail in response to mechanical stimuli using mouse models of human aneurysmal disease. Data will be presented from our work on biomechanical metrics associated with aneurysms\, correlations between mechanical changes and biochemical signaling\, growth and remodeling predictions of aneurysm progression\, fluid-solid structure interaction modeling of aneurysm biomechanics and failure\, and transmural fluid and solid transport\, as possible contributions to aneurysmal disease. \n\n\n\nPrint PDF
URL:https://engineering.wisc.edu/event/bme-seminar-series-jessica-wagenseil-phd/
LOCATION:1003 (Tong Auditorium) Engineering Centers Building\, 1550 Engineering Drive\, Madison\, WI\, 53706\, United States
CATEGORIES:Biomedical Engineering,Seminar
ATTACH;FMTTYPE=image/jpeg:https://engineering.wisc.edu/wp-content/uploads/2024/11/Seminar-Graphic-Fall2024-1.avif
ORGANIZER;CN="Department of Biomedical Engineering":MAILTO:bmehelp@bme.wisc.edu
END:VEVENT
BEGIN:VEVENT
DTSTART;TZID=America/Chicago:20250425T130000
DTEND;TZID=America/Chicago:20250425T140000
DTSTAMP:20260422T180240
CREATED:20250417T130951Z
LAST-MODIFIED:20250417T130953Z
UID:10001231-1745586000-1745589600@engineering.wisc.edu
SUMMARY:ISyE - Poster Session
DESCRIPTION:Atrium- Mechanical Engineering \n\n\n\nLearn more about the exciting research in the Department of Industrial & Systems Engineering! \n\n\n\nOur graduate students will be hosting a poster session highlighting their recent research. This event is free and open to the public.
URL:https://engineering.wisc.edu/event/isye-poster-session/
LOCATION:Mechanical Engineering Building – Atrium\, 1415 Engineering Drive\, Madison\, 53711
CATEGORIES:Departments,Industrial & Systems Engineering
ATTACH;FMTTYPE=image/jpeg:https://engineering.wisc.edu/wp-content/uploads/2023/04/Generic_Poster_Session-jpg-webp.webp
END:VEVENT
BEGIN:VEVENT
DTSTART;TZID=America/Chicago:20250425T121500
DTEND;TZID=America/Chicago:20250425T130000
DTSTAMP:20260422T180240
CREATED:20250416T144023Z
LAST-MODIFIED:20250417T211241Z
UID:10001229-1745583300-1745586000@engineering.wisc.edu
SUMMARY:ISyE - Student/Alumni Lunch
DESCRIPTION:The Department of Industrial and Systems Engineering is hosting a lunch for students and alumni. The alumni guests are members of the department’s Industrial Advisory Board. Learn more about our board members here. \n\n\n\nRegistration is requested: \n\n\n\n\nStudent/Alumni Lunch Registration
URL:https://engineering.wisc.edu/event/isye-student-alumni-lunch/
LOCATION:3121 Mechanical Engineering\, 1513 Engineering Drive\, Madison\, WI\, 53706\, United States
CATEGORIES:Alumni events,Departments,Industrial & Systems Engineering,Social Event
ATTACH;FMTTYPE=image/jpeg:https://engineering.wisc.edu/wp-content/uploads/2025/03/Lunch3-2024.avif
END:VEVENT
BEGIN:VEVENT
DTSTART;TZID=America/Chicago:20250425T120500
DTEND;TZID=America/Chicago:20250425T125500
DTSTAMP:20260422T180240
CREATED:20241226T173818Z
LAST-MODIFIED:20241226T173820Z
UID:10001074-1745582700-1745585700@engineering.wisc.edu
SUMMARY:Mechanics Seminar: Professor Carlos Portela
DESCRIPTION:The Mechanics Seminar Series is a weekly seminar given by campus and visiting speakers on topics across the spectrum of mechanics research (solids\, fluids\, and dynamics). Professor Carlos Portela is a professor at MIT.
URL:https://engineering.wisc.edu/event/mechanics-seminar-professor-carlos-portela/
LOCATION:3M Auditorium\, rm 1106 Mechanical Engineering Building\, 1513 University Ave\, Madison\, 53711
CATEGORIES:Mechanical Engineering
ATTACH;FMTTYPE=image/jpeg:https://engineering.wisc.edu/wp-content/uploads/2024/08/Event-Graphics-for-Calendar-11-jpg.avif
END:VEVENT
BEGIN:VEVENT
DTSTART;TZID=America/Chicago:20250425T120000
DTEND;TZID=America/Chicago:20250425T140000
DTSTAMP:20260422T180240
CREATED:20250211T192501Z
LAST-MODIFIED:20250401T162026Z
UID:10001156-1745582400-1745589600@engineering.wisc.edu
SUMMARY:BME Design Poster Session and Awards
DESCRIPTION:The biomedical engineering department invites the public to a poster session presented by biomedical engineering undergraduates. Over 40 teams will be showcasing their solutions for design projects from clients in the medical school\, life sciences\, engineering\, and the community. For a full list of the projects and presentation times\, visit the UW BME Design page. \n\n\n\nInformal poster viewing: 11 am – 12 pmFormal poster session: 12 – 2:15 pmAwards ceremony: 3 – 4 pm
URL:https://engineering.wisc.edu/event/bme-design-poster-session-and-awards/
LOCATION:Engineering Centers Building Atrium\, 1550 Engineering Drive\, Madison\, WI\, 53706\, United States
CATEGORIES:Biomedical Engineering
ATTACH;FMTTYPE=image/jpeg:https://engineering.wisc.edu/wp-content/uploads/2024/11/Poster-Session.avif
ORGANIZER;CN="Department of Biomedical Engineering":MAILTO:bmehelp@bme.wisc.edu
END:VEVENT
BEGIN:VEVENT
DTSTART;TZID=America/Chicago:20250425T095500
DTEND;TZID=America/Chicago:20250425T104500
DTSTAMP:20260422T180240
CREATED:20250227T214134Z
LAST-MODIFIED:20250227T214916Z
UID:10001195-1745574900-1745577900@engineering.wisc.edu
SUMMARY:Welcome Back\, Badger - Jayeeta Lakhani
DESCRIPTION:Please help us welcome back alumna Jayeeta Lakhani\, General Manager of IoT at Amazon Web Services (AWS). \n\n\n\n\n\n\n\nJayeeta earned her Master’s in Industrial Engineering from the University of Wisconsin-Madison and holds certifications as a Six Sigma Black Belt and Lean Master. She sharpened her strategic foresight and leadership acumen at Harvard Business School’s prestigious Advanced Management Program. As an angel investor\, she actively supports pioneering startups driving innovation in healthcare\, AI\, and DEI.
URL:https://engineering.wisc.edu/event/welcome-back-badger-jayeeta-lakhani/
LOCATION:1800 Engineering Hall\, 1415 Engineering Drive\, Madison\, 53711
CATEGORIES:Alumni events,Departments,Featured Guest Speaker,Industrial & Systems Engineering
ATTACH;FMTTYPE=image/jpeg:https://engineering.wisc.edu/wp-content/uploads/2025/02/Generic-announcement.avif
END:VEVENT
BEGIN:VEVENT
DTSTART;TZID=America/Chicago:20250424T180000
DTEND;TZID=America/Chicago:20250424T190000
DTSTAMP:20260422T180240
CREATED:20250416T162932Z
LAST-MODIFIED:20250416T162935Z
UID:10001230-1745517600-1745521200@engineering.wisc.edu
SUMMARY:ISyE - Student info session with Promega
DESCRIPTION:Connect with IISE and Promega! Promega is a Madison\, Wisconsin–based manufacturer of enzymes and biotechnology with a portfolio covering the fields of genomics and drug discovery. This is great for expanding your professional network and learning about potential career opportunities within Promega\, especially if you are interested in how ISyE and life sciences overlap. Don’t miss out on this excellent opportunity!
URL:https://engineering.wisc.edu/event/isye-student-info-session-with-promega/
LOCATION:1153 Mechanical Engineering\, 1513 University Ave\, Madison\, WI\, 53706\, United States
ATTACH;FMTTYPE=image/jpeg:https://engineering.wisc.edu/wp-content/uploads/2024/09/Student-Org-EVent-scaled.avif
END:VEVENT
BEGIN:VEVENT
DTSTART;TZID=America/Chicago:20250424T160000
DTEND;TZID=America/Chicago:20250424T170000
DTSTAMP:20260422T180240
CREATED:20241226T155504Z
LAST-MODIFIED:20241226T161332Z
UID:10001067-1745510400-1745514000@engineering.wisc.edu
SUMMARY:ME 903 Graduate Seminar: Professor Ufuk Topcu
DESCRIPTION:The ME 903: Graduate Student Lecture Series features campus and visiting speakers who present on a variety of research topics in the field of mechanical engineering. Professor Ufuk Topcu is a professor at the University of Texas Austin.
URL:https://engineering.wisc.edu/event/me-903-graduate-seminar-professor-ufuk-topcu/
LOCATION:3M Auditorium\, rm 1106 Mechanical Engineering Building\, 1513 University Ave\, Madison\, 53711
CATEGORIES:Mechanical Engineering
ATTACH;FMTTYPE=image/jpeg:https://engineering.wisc.edu/wp-content/uploads/2024/08/Event-Graphics-for-Calendar-12-jpg.avif
END:VEVENT
BEGIN:VEVENT
DTSTART;TZID=America/Chicago:20250424T150000
DTEND;TZID=America/Chicago:20250424T170000
DTSTAMP:20260422T180240
CREATED:20250306T153417Z
LAST-MODIFIED:20250409T163842Z
UID:10001209-1745506800-1745514000@engineering.wisc.edu
SUMMARY:Inaugural ECE Undergraduate Research Symposium
DESCRIPTION:Union South \n\n\n\nThe Department of Electrical and Computer Engineering invites you to join us for the inaugural ECE Undergraduate Research Symposium.  The symposium will be an  exciting showcase of undergraduate research beyond the classroom. Selected students and teams will present their innovative work during a poster session where all are encouraged to talk with the undergraduate researchers about their discoveries.  Over thirty research projects will be on display! \n\n\n\nThis event is open to the public—come support our students and explore their cutting-edge research! \n\n\n\nEvent schedule:3:00 –  Poster session with light refreshments – Agriculture Room and Industry Room in Union South4:45 – Award presentations
URL:https://engineering.wisc.edu/event/ece-undergraduate-research-symposium/
LOCATION:Union South\, 1308 W Dayton St.\, Madison\, 53711
CATEGORIES:Electrical & Computer Engineering,Social Event
ATTACH;FMTTYPE=image/jpeg:https://engineering.wisc.edu/wp-content/uploads/2025/03/ECE-UG-Research-Symposium-2.avif
END:VEVENT
BEGIN:VEVENT
DTSTART;TZID=America/Chicago:20250422T180000
DTEND;TZID=America/Chicago:20250422T190000
DTSTAMP:20260422T180240
CREATED:20250327T222205Z
LAST-MODIFIED:20250415T204738Z
UID:10001222-1745344800-1745348400@engineering.wisc.edu
SUMMARY:Focus on Communications
DESCRIPTION:Join us as we welcome special guest speaker Dr. Mike Behan\, an expert on technical communications skills. All engineering students are welcome – pizza will be served! \n\n\n\nDr. Behan is an Associate Professor in Winona State University’s Marketing Department\, and Coach of the WSU Sales Team. He also served as the Director of the Strauss Center for Sales Excellence from 2022-2033. This is his second trip to our campus to talk to students about the building blocks of solid communications\, especially for a technical audience. \n\n\n\nThis event is hosted by the Department of Industrial and Systems Engineering. \n\n\n\n\n\n\n\n\nDr. Michael Behan shares tips on communication excellence to undergraduate students.
URL:https://engineering.wisc.edu/event/isye-focus-on-communications/
LOCATION:1413 Engineering Hall – Cheney Room\, 1415 Engineering Drive\, Madison\, WI\, 53711\, United States
CATEGORIES:Departments,Industrial & Systems Engineering,Information Session
ATTACH;FMTTYPE=image/jpeg:https://engineering.wisc.edu/wp-content/uploads/2025/03/Behan_horizontal.avif
END:VEVENT
END:VCALENDAR