BEGIN:VCALENDAR
VERSION:2.0
PRODID:-//College of Engineering - University of Wisconsin-Madison - ECPv6.15.20//NONSGML v1.0//EN
CALSCALE:GREGORIAN
METHOD:PUBLISH
X-WR-CALNAME:College of Engineering - University of Wisconsin-Madison
X-ORIGINAL-URL:https://engineering.wisc.edu
X-WR-CALDESC:Events for College of Engineering - University of Wisconsin-Madison
REFRESH-INTERVAL;VALUE=DURATION:PT1H
X-Robots-Tag:noindex
X-PUBLISHED-TTL:PT1H
BEGIN:VTIMEZONE
TZID:America/Chicago
BEGIN:DAYLIGHT
TZOFFSETFROM:-0600
TZOFFSETTO:-0500
TZNAME:CDT
DTSTART:20240310T080000
END:DAYLIGHT
BEGIN:STANDARD
TZOFFSETFROM:-0500
TZOFFSETTO:-0600
TZNAME:CST
DTSTART:20241103T070000
END:STANDARD
BEGIN:DAYLIGHT
TZOFFSETFROM:-0600
TZOFFSETTO:-0500
TZNAME:CDT
DTSTART:20250309T080000
END:DAYLIGHT
BEGIN:STANDARD
TZOFFSETFROM:-0500
TZOFFSETTO:-0600
TZNAME:CST
DTSTART:20251102T070000
END:STANDARD
BEGIN:DAYLIGHT
TZOFFSETFROM:-0600
TZOFFSETTO:-0500
TZNAME:CDT
DTSTART:20260308T080000
END:DAYLIGHT
BEGIN:STANDARD
TZOFFSETFROM:-0500
TZOFFSETTO:-0600
TZNAME:CST
DTSTART:20261101T070000
END:STANDARD
END:VTIMEZONE
BEGIN:VEVENT
DTSTART;TZID=America/Chicago:20250425T095500
DTEND;TZID=America/Chicago:20250425T104500
DTSTAMP:20260423T110159
CREATED:20250227T214134Z
LAST-MODIFIED:20250227T214916Z
UID:10001195-1745574900-1745577900@engineering.wisc.edu
SUMMARY:Welcome Back\, Badger - Jayeeta Lakhani
DESCRIPTION:Please help us welcome back alumna Jayeeta Lakhani\, General Manager of IoT at Amazon Web Services (AWS). \n\n\n\n\n\n\n\nJayeeta earned her Master’s in Industrial Engineering from the University of Wisconsin-Madison and holds certifications as a Six Sigma Black Belt and Lean Master. She sharpened her strategic foresight and leadership acumen at Harvard Business School’s prestigious Advanced Management Program. As an angel investor\, she actively supports pioneering startups driving innovation in healthcare\, AI\, and DEI.
URL:https://engineering.wisc.edu/event/welcome-back-badger-jayeeta-lakhani/
LOCATION:1800 Engineering Hall\, 1415 Engineering Drive\, Madison\, 53711
CATEGORIES:Alumni events,Departments,Featured Guest Speaker,Industrial & Systems Engineering
ATTACH;FMTTYPE=image/jpeg:https://engineering.wisc.edu/wp-content/uploads/2025/02/Generic-announcement.avif
END:VEVENT
BEGIN:VEVENT
DTSTART;TZID=America/Chicago:20250424T180000
DTEND;TZID=America/Chicago:20250424T190000
DTSTAMP:20260423T110159
CREATED:20250416T162932Z
LAST-MODIFIED:20250416T162935Z
UID:10001230-1745517600-1745521200@engineering.wisc.edu
SUMMARY:ISyE - Student info session with Promega
DESCRIPTION:Connect with IISE and Promega! Promega is a Madison\, Wisconsin–based manufacturer of enzymes and biotechnology with a portfolio covering the fields of genomics and drug discovery. This is great for expanding your professional network and learning about potential career opportunities within Promega\, especially if you are interested in how ISyE and life sciences overlap. Don’t miss out on this excellent opportunity!
URL:https://engineering.wisc.edu/event/isye-student-info-session-with-promega/
LOCATION:1153 Mechanical Engineering\, 1513 University Ave\, Madison\, WI\, 53706\, United States
ATTACH;FMTTYPE=image/jpeg:https://engineering.wisc.edu/wp-content/uploads/2024/09/Student-Org-EVent-scaled.avif
END:VEVENT
BEGIN:VEVENT
DTSTART;TZID=America/Chicago:20250424T160000
DTEND;TZID=America/Chicago:20250424T170000
DTSTAMP:20260423T110159
CREATED:20241226T155504Z
LAST-MODIFIED:20241226T161332Z
UID:10001067-1745510400-1745514000@engineering.wisc.edu
SUMMARY:ME 903 Graduate Seminar: Professor Ufuk Topcu
DESCRIPTION:The ME 903: Graduate Student Lecture Series features campus and visiting speakers who present on a variety of research topics in the field of mechanical engineering. Professor Ufuk Topcu is a professor at the University of Texas Austin.
URL:https://engineering.wisc.edu/event/me-903-graduate-seminar-professor-ufuk-topcu/
LOCATION:3M Auditorium\, rm 1106 Mechanical Engineering Building\, 1513 University Ave\, Madison\, 53711
CATEGORIES:Mechanical Engineering
ATTACH;FMTTYPE=image/jpeg:https://engineering.wisc.edu/wp-content/uploads/2024/08/Event-Graphics-for-Calendar-12-jpg.avif
END:VEVENT
BEGIN:VEVENT
DTSTART;TZID=America/Chicago:20250424T150000
DTEND;TZID=America/Chicago:20250424T170000
DTSTAMP:20260423T110159
CREATED:20250306T153417Z
LAST-MODIFIED:20250409T163842Z
UID:10001209-1745506800-1745514000@engineering.wisc.edu
SUMMARY:Inaugural ECE Undergraduate Research Symposium
DESCRIPTION:Union South \n\n\n\nThe Department of Electrical and Computer Engineering invites you to join us for the inaugural ECE Undergraduate Research Symposium.  The symposium will be an  exciting showcase of undergraduate research beyond the classroom. Selected students and teams will present their innovative work during a poster session where all are encouraged to talk with the undergraduate researchers about their discoveries.  Over thirty research projects will be on display! \n\n\n\nThis event is open to the public—come support our students and explore their cutting-edge research! \n\n\n\nEvent schedule:3:00 –  Poster session with light refreshments – Agriculture Room and Industry Room in Union South4:45 – Award presentations
URL:https://engineering.wisc.edu/event/ece-undergraduate-research-symposium/
LOCATION:Union South\, 1308 W Dayton St.\, Madison\, 53711
CATEGORIES:Electrical & Computer Engineering,Social Event
ATTACH;FMTTYPE=image/jpeg:https://engineering.wisc.edu/wp-content/uploads/2025/03/ECE-UG-Research-Symposium-2.avif
END:VEVENT
END:VCALENDAR