BEGIN:VCALENDAR
VERSION:2.0
PRODID:-//College of Engineering - University of Wisconsin-Madison - ECPv6.15.20//NONSGML v1.0//EN
CALSCALE:GREGORIAN
METHOD:PUBLISH
X-WR-CALNAME:College of Engineering - University of Wisconsin-Madison
X-ORIGINAL-URL:https://engineering.wisc.edu
X-WR-CALDESC:Events for College of Engineering - University of Wisconsin-Madison
REFRESH-INTERVAL;VALUE=DURATION:PT1H
X-Robots-Tag:noindex
X-PUBLISHED-TTL:PT1H
BEGIN:VTIMEZONE
TZID:America/Chicago
BEGIN:DAYLIGHT
TZOFFSETFROM:-0600
TZOFFSETTO:-0500
TZNAME:CDT
DTSTART:20250309T080000
END:DAYLIGHT
BEGIN:STANDARD
TZOFFSETFROM:-0500
TZOFFSETTO:-0600
TZNAME:CST
DTSTART:20251102T070000
END:STANDARD
BEGIN:DAYLIGHT
TZOFFSETFROM:-0600
TZOFFSETTO:-0500
TZNAME:CDT
DTSTART:20260308T080000
END:DAYLIGHT
BEGIN:STANDARD
TZOFFSETFROM:-0500
TZOFFSETTO:-0600
TZNAME:CST
DTSTART:20261101T070000
END:STANDARD
BEGIN:DAYLIGHT
TZOFFSETFROM:-0600
TZOFFSETTO:-0500
TZNAME:CDT
DTSTART:20270314T080000
END:DAYLIGHT
BEGIN:STANDARD
TZOFFSETFROM:-0500
TZOFFSETTO:-0600
TZNAME:CST
DTSTART:20271107T070000
END:STANDARD
END:VTIMEZONE
BEGIN:VEVENT
DTSTART;TZID=America/Chicago:20260219T143000
DTEND;TZID=America/Chicago:20260219T160000
DTSTAMP:20260420T115145
CREATED:20260211T165214Z
LAST-MODIFIED:20260211T165319Z
UID:10001457-1771511400-1771516800@engineering.wisc.edu
SUMMARY:ISyE - Website Portfolio Design Seminar
DESCRIPTION:Join our HFES student org for this Website Portfolio Design Seminar. This is a hands-on workshop which will cover the basics of building a website using GitHub.
URL:https://engineering.wisc.edu/event/isye-website-portfolio-design-seminar/2026-02-19/
LOCATION:1270 Mechanical Engineering\, 1513 University Ave\, Madison\, 53706
CATEGORIES:Departments,Industrial & Systems Engineering,Seminar,Student Org Event
ATTACH;FMTTYPE=image/jpeg:https://engineering.wisc.edu/wp-content/uploads/2024/09/Student-Org-EVent-scaled.avif
END:VEVENT
END:VCALENDAR