BEGIN:VCALENDAR
VERSION:2.0
PRODID:-//College of Engineering - University of Wisconsin-Madison - ECPv6.15.20//NONSGML v1.0//EN
CALSCALE:GREGORIAN
METHOD:PUBLISH
X-WR-CALNAME:College of Engineering - University of Wisconsin-Madison
X-ORIGINAL-URL:https://engineering.wisc.edu
X-WR-CALDESC:Events for College of Engineering - University of Wisconsin-Madison
REFRESH-INTERVAL;VALUE=DURATION:PT1H
X-Robots-Tag:noindex
X-PUBLISHED-TTL:PT1H
BEGIN:VTIMEZONE
TZID:America/Chicago
BEGIN:DAYLIGHT
TZOFFSETFROM:-0600
TZOFFSETTO:-0500
TZNAME:CDT
DTSTART:20250309T080000
END:DAYLIGHT
BEGIN:STANDARD
TZOFFSETFROM:-0500
TZOFFSETTO:-0600
TZNAME:CST
DTSTART:20251102T070000
END:STANDARD
BEGIN:DAYLIGHT
TZOFFSETFROM:-0600
TZOFFSETTO:-0500
TZNAME:CDT
DTSTART:20260308T080000
END:DAYLIGHT
BEGIN:STANDARD
TZOFFSETFROM:-0500
TZOFFSETTO:-0600
TZNAME:CST
DTSTART:20261101T070000
END:STANDARD
BEGIN:DAYLIGHT
TZOFFSETFROM:-0600
TZOFFSETTO:-0500
TZNAME:CDT
DTSTART:20270314T080000
END:DAYLIGHT
BEGIN:STANDARD
TZOFFSETFROM:-0500
TZOFFSETTO:-0600
TZNAME:CST
DTSTART:20271107T070000
END:STANDARD
END:VTIMEZONE
BEGIN:VEVENT
DTSTART;TZID=America/Chicago:20260425T110000
DTEND;TZID=America/Chicago:20260425T150000
DTSTAMP:20260422T155916
CREATED:20260422T162545Z
LAST-MODIFIED:20260422T162548Z
UID:10001519-1777114800-1777129200@engineering.wisc.edu
SUMMARY:ISyE - ALPs High Rope Challenge Course
DESCRIPTION:The students of HFES and INFORMS are co-hosting a high ropes course workshop through Adventure Learning Programs (ALPs). Tackle a zipline\, climbing wall\, giant swing\, and more at the challenge course. No experience needed; all equipment and safety gear provided. \n\n\n\n\nRSVP now!
URL:https://engineering.wisc.edu/event/isye-alps-high-rope-challenge-course/
LOCATION:3725 Schneider Road\, Madison
CATEGORIES:Departments,Industrial & Systems Engineering,Student Org Event
ATTACH;FMTTYPE=image/jpeg:https://engineering.wisc.edu/wp-content/uploads/2026/04/ALPS-ropes_HFES.avif
END:VEVENT
END:VCALENDAR