BEGIN:VCALENDAR
VERSION:2.0
PRODID:-//College of Engineering - University of Wisconsin-Madison - ECPv6.15.20//NONSGML v1.0//EN
CALSCALE:GREGORIAN
METHOD:PUBLISH
X-ORIGINAL-URL:https://engineering.wisc.edu
X-WR-CALDESC:Events for College of Engineering - University of Wisconsin-Madison
REFRESH-INTERVAL;VALUE=DURATION:PT1H
X-Robots-Tag:noindex
X-PUBLISHED-TTL:PT1H
BEGIN:VTIMEZONE
TZID:America/Chicago
BEGIN:DAYLIGHT
TZOFFSETFROM:-0600
TZOFFSETTO:-0500
TZNAME:CDT
DTSTART:20250309T080000
END:DAYLIGHT
BEGIN:STANDARD
TZOFFSETFROM:-0500
TZOFFSETTO:-0600
TZNAME:CST
DTSTART:20251102T070000
END:STANDARD
BEGIN:DAYLIGHT
TZOFFSETFROM:-0600
TZOFFSETTO:-0500
TZNAME:CDT
DTSTART:20260308T080000
END:DAYLIGHT
BEGIN:STANDARD
TZOFFSETFROM:-0500
TZOFFSETTO:-0600
TZNAME:CST
DTSTART:20261101T070000
END:STANDARD
BEGIN:DAYLIGHT
TZOFFSETFROM:-0600
TZOFFSETTO:-0500
TZNAME:CDT
DTSTART:20270314T080000
END:DAYLIGHT
BEGIN:STANDARD
TZOFFSETFROM:-0500
TZOFFSETTO:-0600
TZNAME:CST
DTSTART:20271107T070000
END:STANDARD
END:VTIMEZONE
BEGIN:VEVENT
DTSTART;TZID=America/Chicago:20260509T140000
DTEND;TZID=America/Chicago:20260509T160000
DTSTAMP:20260422T232739
CREATED:20260217T210813Z
LAST-MODIFIED:20260218T144302Z
UID:10001464-1778335200-1778342400@engineering.wisc.edu
SUMMARY:NEEP Graduation Celebration
DESCRIPTION:The Department of Nuclear Engineering & Engineering Physics is excited to celebrate our graduates! Bring your friends and family\, and join us for a buffet lunch as we recognize your hard work and achievements. This event will take place after the Camp Randall Commencement Ceremony and before the College of Engineering Graduation Recognition at the Kohl Center. Graduating students will receive a request for RSVP closer to the date. \n\n\n\nSaturday\, May 9\, 2026 | 2:00 – 4:00pmSonata RoomGordon Dining Hall & Event Center770 W Dayton Street \n\n\n\nPlease direct any questions to Lili Sarajian at lsarajian@wisc.edu.
URL:https://engineering.wisc.edu/event/neep-graduation-celebration-2/
LOCATION:Gordon Dining Hall & Event Center\, 770 W Dayton Street\, Madison\, Wisconsin\, 53706
CATEGORIES:Nuclear Engineering & Engineering Physics
ATTACH;FMTTYPE=image/jpeg:https://engineering.wisc.edu/wp-content/uploads/2026/02/Commencement-CRS-2025-05-10AD-5573.avif
END:VEVENT
END:VCALENDAR