BEGIN:VCALENDAR
VERSION:2.0
PRODID:-//College of Engineering - University of Wisconsin-Madison - ECPv6.15.20//NONSGML v1.0//EN
CALSCALE:GREGORIAN
METHOD:PUBLISH
X-ORIGINAL-URL:https://engineering.wisc.edu
X-WR-CALDESC:Events for College of Engineering - University of Wisconsin-Madison
REFRESH-INTERVAL;VALUE=DURATION:PT1H
X-Robots-Tag:noindex
X-PUBLISHED-TTL:PT1H
BEGIN:VTIMEZONE
TZID:America/Chicago
BEGIN:DAYLIGHT
TZOFFSETFROM:-0600
TZOFFSETTO:-0500
TZNAME:CDT
DTSTART:20250309T080000
END:DAYLIGHT
BEGIN:STANDARD
TZOFFSETFROM:-0500
TZOFFSETTO:-0600
TZNAME:CST
DTSTART:20251102T070000
END:STANDARD
BEGIN:DAYLIGHT
TZOFFSETFROM:-0600
TZOFFSETTO:-0500
TZNAME:CDT
DTSTART:20260308T080000
END:DAYLIGHT
BEGIN:STANDARD
TZOFFSETFROM:-0500
TZOFFSETTO:-0600
TZNAME:CST
DTSTART:20261101T070000
END:STANDARD
BEGIN:DAYLIGHT
TZOFFSETFROM:-0600
TZOFFSETTO:-0500
TZNAME:CDT
DTSTART:20270314T080000
END:DAYLIGHT
BEGIN:STANDARD
TZOFFSETFROM:-0500
TZOFFSETTO:-0600
TZNAME:CST
DTSTART:20271107T070000
END:STANDARD
END:VTIMEZONE
BEGIN:VEVENT
DTSTART;TZID=America/Chicago:20260129T170000
DTEND;TZID=America/Chicago:20260129T190000
DTSTAMP:20260424T101608
CREATED:20260127T204845Z
LAST-MODIFIED:20260127T205026Z
UID:10001445-1769706000-1769713200@engineering.wisc.edu
SUMMARY:ISyE - Bowling & Billiards
DESCRIPTION:Stop by for IISE’s first social of spring semester! Come hang out\, meet other members\, and kick off the semester with some friendly competition.  All students welcome – hope to see you there!
URL:https://engineering.wisc.edu/event/isye-bowling-billiards/
LOCATION:Union South – The Sett\, 1308 W Dayton St\, Madison\, Wisconsin\, 53715
CATEGORIES:Departments,Industrial & Systems Engineering,Social Event,Student Org Event
ATTACH;FMTTYPE=image/jpeg:https://engineering.wisc.edu/wp-content/uploads/2026/01/Bowling.avif
END:VEVENT
END:VCALENDAR